Workbook
Name ___xlnm.Print_Area: #REF!
Name ___xlnm.Print_Area_1: #REF!
Name ___xlnm.Print_Area_2: #REF!
Name ___xlnm.Print_Area_3: #REF!
Name ___xlnm.Print_Area_4: #REF!
Name ___xlnm.Print_Area_5: #REF!
Name ___xlnm.Print_Area_6: #REF!
Name ___xlnm.Print_Area_7: #REF!
Name ___xlnm.Print_Titles: #REF!
Name ___xlnm.Print_Titles_1: #REF!
Name ___xlnm.Print_Titles_2: #REF!
Name __xlnm.Print_Area: "#REF!"
Name __xlnm.Print_Area_1: "#REF!"
Name __xlnm.Print_Area_1_1: "#REF!"
Name __xlnm.Print_Area_1_1_1: "#REF!"
Name __xlnm.Print_Area_10: #REF!
Name __xlnm.Print_Area_11: #REF!
Name __xlnm.Print_Area_12: #REF!
Name __xlnm.Print_Area_13: #REF!
Name __xlnm.Print_Area_14: #REF!
Name __xlnm.Print_Area_15: #REF!
Name __xlnm.Print_Area_16: #REF!
Name __xlnm.Print_Area_17: #REF!
Name __xlnm.Print_Area_18: #REF!
Name __xlnm.Print_Area_19: #REF!
Name __xlnm.Print_Area_2: "#REF!"
Name __xlnm.Print_Area_2_1: "#REF!"
Name __xlnm.Print_Area_20: #REF!
Name __xlnm.Print_Area_21: #REF!
Name __xlnm.Print_Area_22: #REF!
Name __xlnm.Print_Area_3: "#REF!"
Name __xlnm.Print_Area_3_1: "#REF!"
Name __xlnm.Print_Area_4: "#REF!"
Name __xlnm.Print_Area_4_1: "#REF!"
Name __xlnm.Print_Area_5: #REF!
Name __xlnm.Print_Area_6: "#REF!"
Name __xlnm.Print_Area_6_1: "#REF!"
Name __xlnm.Print_Area_7: "#REF!"
Name __xlnm.Print_Area_7_1: "#REF!"
Name __xlnm.Print_Area_8: #REF!
Name __xlnm.Print_Area_9: #REF!
Name __xlnm.Print_Titles: "#REF!"
Name __xlnm.Print_Titles_1: "#REF!"
Name __xlnm.Print_Titles_1_1: "#REF!"
Name __xlnm.Print_Titles_1_1_1: "#REF!"
Name __xlnm.Print_Titles_2: "#REF!"
Name __xlnm.Print_Titles_2_1: "#REF!"
Name __xlnm.Print_Titles_3: "#REF!"
Name __xlnm.Print_Titles_3_1: "#REF!"
Name __xlnm.Print_Titles_4: "#REF!"
Name __xlnm.Print_Titles_4_1: "#REF!"
Name __xlnm.Print_Titles_5: "#REF!"
Name __xlnm.Print_Titles_5_1: "#REF!"
Name Excel_BuiltIn_Print_Area_1: #REF!
Name Excel_BuiltIn_Print_Area_10: #REF!
Name Excel_BuiltIn_Print_Area_10_1: #REF!
Name Excel_BuiltIn_Print_Area_11: #REF!
Name Excel_BuiltIn_Print_Area_11_1: #REF!
Name Excel_BuiltIn_Print_Area_12: #REF!
Name Excel_BuiltIn_Print_Area_12_1: #REF!

Sheet Koptāme
G3: Apstiprinu
G4: ___________________________________
G5: (pasūtītājs, paraksts un tā atšifrējums)
J6: Z.V.
J7: ______.gada ____.____________
A9: Finanšu piedāvājums - Būvniecības koptāme
A11: Objekta nosaukums: | C11: Kosmētiskais remonts virtuvē Zigfrīda Annas Meierovica bulvāris 1 k-5, Rīga
A12: Būves nosaukums: | C12: Kosmētiskais remonts virtuvē Zigfrīda Annas Meierovica bulvāris 1 k-5, Rīga
A14: Objekta adrese: | C14: Zigfrīda Annas Meierovica bulvārī 1, 5. korpuss, Rīga
A15: Pasūtījuma Nr.:
A17: N. P. K | B17: Objekta nosaukums | G17: Objekta izmaksas (euro)
A18: 1 | B18: Kosmētiskais remonts virtuvē Zigfrīda Annas Meierovica bulvāris 1 k-5, Rīga | G18: ='Kopsavilkums Nr.1'!G21 -> 0
B19: Kopā | G19: =SUM(G18) -> 0
A21: PVN | F21: 0.21 | G21: =ROUND(G19*0.21,2) -> 0
A24: Sastādīja:
B25: (paraksts un tā atšifrējums, datums)
A26: Pārbaudīja:
B27: (paraksts un tā atšifrējums, datums)

Sheet Kopsavilkums Nr.1
A1: Kopsavilkuma aprēķins Nr.1
A3: Objekta nosaukums: | D3: =Koptāme!C11 -> Kosmētiskais remonts virtuvē Zigfrīda Annas Meierovica bulvāris 1 k-5, Rīga
A5: Būves nosaukums: | D5: =Koptāme!B18 -> Kosmētiskais remonts virtuvē Zigfrīda Annas Meierovica bulvāris 1 k-5, Rīga
A7: Objekta adrese: | D7: =Koptāme!C14 -> Zigfrīda Annas Meierovica bulvārī 1, 5. korpuss, Rīga
A9: Pasūtījuma Nr.:
D11: Par kopējo summu, (EUR) | G11: =G21 -> 0
D12: Kopējā darbietilpība, c/h | G12: =K17 -> 0
A14: N.p.k | B14: Kods, Tāmes Nr. | C14: Darba veids vai konstruktīvā elementa nosaukums | G14: Tāmes izmaksa | H14: Tai skaitā | K14: Darbietilpība c/h
H15: Darba alga | I15: Būvizstrādājumi | J15: Mehānismi
A16: 1 | B16: 1-1 | C16: =ZAM1_virtuve!C4 -> Kosmētiskais remonts virtuvē Zigfrīda Annas Meierovica bulvāris 1 k-5, Rīga | G16: =ZAM1_virtuve!O60 -> 0 | H16: =ZAM1_virtuve!L60 -> 0 | I16: =ZAM1_virtuve!M60 -> 0 | J16: =ZAM1_virtuve!N60 -> 0 | K16: =ZAM1_virtuve!K60 -> 0
A17: Kopā | G17: =SUM(G16) -> 0 | H17: =SUM(H16) -> 0 | I17: =SUM(I16) -> 0 | J17: =SUM(J16) -> 0 | K17: =SUM(K16) -> 0
A18: Virsizdevumi | F18: 0 | G18: =ROUND(G17*F18,2) -> 0
A19: tajā skaitā darba aizsardzība
A20: Peļņa | F20: 0 | G20: =ROUND(G17*F20,2) -> 0
A21: Pavisam kopā | G21: =SUM(G17,G18,G20) -> 0
A23: Sastādīja:
C24: (paraksts un tā atšifrējums, datums)
A25: Pārbaudīja:
C26: (paraksts un tā atšifrējums, datums)

Sheet ZAM1_virtuve
A1: Lokālā tāme Nr. 1-1
A2: Vispārceltnieciskie darbi
A3: (Būvdarbu veids vai konstruktīvā elementa nosaukums)
A4: Objekta nosaukums: | C4: Kosmētiskais remonts virtuvē Zigfrīda Annas Meierovica bulvāris 1 k-5, Rīga
A6: Būves nosaukums: | C6: =C4 -> Kosmētiskais remonts virtuvē Zigfrīda Annas Meierovica bulvāris 1 k-5, Rīga
A8: Objekta adrese: | C8: Zigfrīda Annas Meierovica bulvārī 1, 5. korpuss, Rīga
A9: Pasūtījuma Nr.:
K10: Tāmes izmaksas: | M10: =O60 -> 0 | N10: EUR
A11: N. p.k. | B11: Darbu nosaukums | C11: Mērvienība | D11: Daudzums | E11: Vienības izmaksas | K11: Kopā uz visu apjomu
E12: Laika norma (c/h) | F12: Darba samaksas likme * (euro/h) | G12: Darba alga | H12: Būvizstrā-dājumi | I12: Mehānismi | J12: Kopā | K12: Darbietilpība (c/h) | L12: Darba alga | M12: Būvizstrā- dājumi | N12: Mehānismi | O12: Summa
A13: 1 | B13: 2 | C13: 3 | D13: 4 | E13: 5 | F13: 6 | G13: 7 | H13: 8 | I13: 9 | J13: 10 | K13: 11 | L13: 12 | M13: 13 | N13: 14 | O13: 15
B14: =A2 -> Vispārceltnieciskie darbi
B15: Telpa Nr.36
B16: Demontāžas darbi
B17: Griestu un gridas seguma laminata demontāža | C17: kmpl. | D17: 1
B18: Vecas virtuves iekartas demontāža | C18: kmpl. | D18: 1
B19: Montāžas un apdares darbi darbi
B20: Grīda
B21: Grīdas sagatavošana flīzēšanai, iesk. izlīdzināšanu | C21: m2 | D21: 11.9
B22: Grīdas flīzēšana 60x 60 flīzes | C22: m2 | D22: 11.9
B23: Šuvošana | C23: m2 | D23: 11.9
B24: Griīdlīstes ( flīzētas) | C24: m | D24: 12
B25: Durvis, logi, palodzes
B26: Jaunas furnitūras uzstadīšana (rokutris un slēdzene) esošajām durvīm | C26: gb. | D26: 1
B27: Jaunu ruļļveida žalūzijas montāža logu ailā | C27: gb. | D27: 2
B28: Divu jaunu iekšējo palodžu uzstadīšana | C28: gb. | D28: 2
B29: Sienas
B30: Sienu virsmu atīrīšana/atkalšana no tapetēm un nenoturīgiejiem apmetuma slāņiem, līdz stingrai pamatnei. | C30: m2 | D30: 34
B31: Sienu gruntēšana pirms apmetuma kārtām | C31: m2 | D31: 34
B32: Sienu virsmas špaktelēšana ar nobeiguma kārtu un līdzināšana, slīpēšana | C32: m2 | D32: 34
B33: Sienu flīzēšana, iesk. līmēšanu un aizpildīšanu ar silikonu. (virs virutves iekārtas galda virsmas) Flīzes 30x60 | C33: m2 | D33: 3
B34: Sienu gruntēšana pirms krāsošanas darbiem | C34: m2 | D34: 34
B35: Sienu krāsošana ar ūdens dispersijas krasām 2 kārtās ( augsta nodilumisturiba) | C35: m2 | D35: 34
B36: Griesti
B37: Piekaramo griestu sistēmas izbūve, stiprināšanas sistēma-T15 | C37: m2 | D37: 11.9
B38: Piekaramo griestu montāža, plāksnes 600x600 (analogs pieguļošajam koridorim) | C38: m2 | D38: 11.9
B39: Inženierkumunikācijas
B40: Elektroinstalācija un apgaisme
B41: Zemapmetuma rozetes 230V montāža, IP44 | C41: gab. | D41: 10
B42: Elektroapgādes kabeļu pārbūve un jauno kabeļu izbūve līdz sadalnei | C42: kompl. | D42: 1
...
