Workbook
Name ___xlnm.Print_Area: #REF!
Name ___xlnm.Print_Area_1: #REF!
Name ___xlnm.Print_Area_2: #REF!
Name ___xlnm.Print_Area_3: #REF!
Name ___xlnm.Print_Area_4: #REF!
Name ___xlnm.Print_Area_5: #REF!
Name ___xlnm.Print_Area_6: #REF!
Name ___xlnm.Print_Area_7: #REF!
Name ___xlnm.Print_Titles: #REF!
Name ___xlnm.Print_Titles_1: #REF!
Name ___xlnm.Print_Titles_2: #REF!
Name __xlnm.Print_Area: "#REF!"
Name __xlnm.Print_Area_1: "#REF!"
Name __xlnm.Print_Area_1_1: "#REF!"
Name __xlnm.Print_Area_1_1_1: "#REF!"
Name __xlnm.Print_Area_10: #REF!
Name __xlnm.Print_Area_11: #REF!
Name __xlnm.Print_Area_12: #REF!
Name __xlnm.Print_Area_13: #REF!
Name __xlnm.Print_Area_14: #REF!
Name __xlnm.Print_Area_15: #REF!
Name __xlnm.Print_Area_16: #REF!
Name __xlnm.Print_Area_17: #REF!
Name __xlnm.Print_Area_18: #REF!
Name __xlnm.Print_Area_19: #REF!
Name __xlnm.Print_Area_2: "#REF!"
Name __xlnm.Print_Area_2_1: "#REF!"
Name __xlnm.Print_Area_20: #REF!
Name __xlnm.Print_Area_21: #REF!
Name __xlnm.Print_Area_22: #REF!
Name __xlnm.Print_Area_3: "#REF!"
Name __xlnm.Print_Area_3_1: "#REF!"
Name __xlnm.Print_Area_4: "#REF!"
Name __xlnm.Print_Area_4_1: "#REF!"
Name __xlnm.Print_Area_5: #REF!
Name __xlnm.Print_Area_6: "#REF!"
Name __xlnm.Print_Area_6_1: "#REF!"
Name __xlnm.Print_Area_7: "#REF!"
Name __xlnm.Print_Area_7_1: "#REF!"
Name __xlnm.Print_Area_8: #REF!
Name __xlnm.Print_Area_9: #REF!
Name __xlnm.Print_Titles: "#REF!"
Name __xlnm.Print_Titles_1: "#REF!"
Name __xlnm.Print_Titles_1_1: "#REF!"
Name __xlnm.Print_Titles_1_1_1: "#REF!"
Name __xlnm.Print_Titles_2: "#REF!"
Name __xlnm.Print_Titles_2_1: "#REF!"
Name __xlnm.Print_Titles_3: "#REF!"
Name __xlnm.Print_Titles_3_1: "#REF!"
Name __xlnm.Print_Titles_4: "#REF!"
Name __xlnm.Print_Titles_4_1: "#REF!"
Name __xlnm.Print_Titles_5: "#REF!"
Name __xlnm.Print_Titles_5_1: "#REF!"
Name Excel_BuiltIn_Print_Area_1: #REF!
Name Excel_BuiltIn_Print_Area_10: #REF!
Name Excel_BuiltIn_Print_Area_10_1: #REF!
Name Excel_BuiltIn_Print_Area_11: #REF!
Name Excel_BuiltIn_Print_Area_11_1: #REF!
Name Excel_BuiltIn_Print_Area_12: #REF!
Name Excel_BuiltIn_Print_Area_12_1: #REF!

Sheet Koptāme
G3: Apstiprinu
G4: ___________________________________
G5: (pasūtītājs, paraksts un tā atšifrējums)
J6: Z.V.
J7: ______.gada ____.____________
A9: Finanšu piedāvājums - Būvniecības koptāme
A11: Objekta nosaukums: | C11: Remonta darbi ūdens filtrācijas ēkā Bauskas ielā 209, Rīgā
A12: Būves nosaukums: | C12: Remonta darbi Bauskas 209, Rīga k-2 kabinetos
A13: Objekta adrese: | C13: Bauskas iela 209, Rīga
A14: Pasūtījuma Nr.:
A16: N. P. K | B16: Objekta nosaukums | G16: Objekta izmaksas (euro)
A17: 1 | B17: Remonta darbi ūdens filtrācijas ēkā Bauskas ielā 209, Rīgā | G17: ='Kopsavilkums Nr.1'!G21 -> 0
B18: Kopā | G18: =SUM(G17) -> 0
A20: PVN | F20: 0.21 | G20: =ROUND(G18*F20,2) -> 0
A23: Sastādīja:
B24: (paraksts un tā atšifrējums, datums)
A25: Pārbaudīja:
B26: (paraksts un tā atšifrējums, datums)

Sheet Kopsavilkums Nr.1
A1: Kopsavilkuma aprēķins Nr.1
A3: Objekta nosaukums: | D3: =Koptāme!C11 -> Remonta darbi ūdens filtrācijas ēkā Bauskas ielā 209, Rīgā
A5: Būves nosaukums: | D5: =Koptāme!C12 -> Remonta darbi Bauskas 209, Rīga k-2 kabinetos
A7: Objekta adrese: | D7: =Koptāme!C13 -> Bauskas iela 209, Rīga
A8: Pasūtījuma Nr.:
D10: Par kopējo summu, (EUR) | G10: =G21 -> 0
D11: Kopējā darbietilpība, c/h | G11: =K17 -> 0
A13: N.p.k | B13: Kods, Tāmes Nr. | C13: Darba veids vai konstruktīvā elementa nosaukums | G13: Tāmes izmaksa | H13: Tai skaitā | K13: Darbietilpība c/h
H14: Darba alga | I14: Būvizstrādājumi | J14: Mehānismi
A15: 1 | B15: 1-1 | C15: Remonta darbi telpā Nr.2 | G15: =telpa_Nr.2!O44 -> 0 | H15: =telpa_Nr.2!L44 -> 0 | I15: =telpa_Nr.2!M44 -> 0 | J15: =telpa_Nr.2!N44 -> 0 | K15: =telpa_Nr.2!K44 -> 0
A16: 2 | B16: 1-2 | C16: Remonta darbi telpās Nr.7 un Nr.8 | G16: ='telpa_Nr.7_Nr.8'!O50 -> 0 | H16: ='telpa_Nr.7_Nr.8'!L50 -> 0 | I16: ='telpa_Nr.7_Nr.8'!M50 -> 0 | J16: ='telpa_Nr.7_Nr.8'!N50 -> 0 | K16: ='telpa_Nr.7_Nr.8'!K50 -> 0
A17: Kopā | G17: =SUM(G15:G16) -> 0 | H17: =SUM(H15:H16) -> 0 | I17: =SUM(I15:I16) -> 0 | J17: =SUM(J15:J16) -> 0 | K17: =SUM(K15:K16) -> 0
A18: Virsizdevumi | F18: 0 | G18: =ROUND(G17*F18,2) -> 0
A19: tajā skaitā darba aizsardzība
A20: Peļņa | F20: 0 | G20: =ROUND(G17*F20,2) -> 0
A21: Pavisam kopā | G21: =G17+G18+G20 -> 0
A23: Sastādīja:
C24: (paraksts un tā atšifrējums, datums)
A25: Pārbaudīja:
C26: (paraksts un tā atšifrējums, datums)

Sheet telpa_Nr.2
A1: Lokālā tāme Nr. 1-1
A2: Vispārcetnieciskie darbi
A3: (Būvdarbu veids vai konstruktīvā elementa nosaukums)
A4: Objekta nosaukums: | C4: =Koptāme!C11 -> Remonta darbi ūdens filtrācijas ēkā Bauskas ielā 209, Rīgā
A6: Būves nosaukums: | C6: ='Kopsavilkums Nr.1'!D5 -> Remonta darbi Bauskas 209, Rīga k-2 kabinetos
A8: Objekta adrese: | C8: =Koptāme!C13 -> Bauskas iela 209, Rīga
A9: Pasūtījuma Nr.: | C9: 0
A10: Tāme sastādīta 2026. gada tirgus cenās, pamatojoties TS | K10: Tāmes izmaksas: | M10: =O44 -> 0 | N10: EUR
A11: N. p.k. | B11: Darbu nosaukums | C11: Mērvienība | D11: Daudzums | E11: Vienības izmaksas | K11: Kopā uz visu apjomu
E12: Laika norma (c/h) | F12: Darba samaksas likme * (euro/h) | G12: Darba alga | H12: Būvizstrā-dājumi | I12: Mehānismi | J12: Kopā | K12: Darbietilpība (c/h) | L12: Darba alga | M12: Būvizstrādājumi | N12: Mehānismi | O12: Summa
A13: 1 | B13: 2 | C13: 3 | D13: 4 | E13: 5 | F13: 6 | G13: 7 | H13: 8 | I13: 9 | J13: 10 | K13: 11 | L13: 12 | M13: 13 | N13: 14 | O13: 15
B14: =A2 -> Vispārcetnieciskie darbi
B15: Telpa Nr.2
B16: Demontāžas darbi
A17: 1 | B17: Esošā aprīkojuma demontāža (esošā loga, restes, apgaismojuma elementi u.t.t.) | C17: objekts | D17: 1 | G17: =ROUND(E17*F17,2) -> 0 | J17: =SUM(G17:I17) -> 0 | K17: =$D17*E17 -> 0 | L17: =$D17*G17 -> 0 | M17: =$D17*H17 -> 0 | N17: =$D17*I17 -> 0 | O17: =SUM(L17:N17) -> 0
B18: Montāžas un apdares darbi darbi
B19: Grīda
A20: 2 | B20: Seguma demontāža un sagatavošana | C20: m2 | D20: 15.1 | G20: =ROUND(E20*F20,2) -> 0 | J20: =SUM(G20:I20) -> 0 | K20: =$D20*E20 -> 0 | L20: =$D20*G20 -> 0 | M20: =$D20*H20 -> 0 | N20: =$D20*I20 -> 0 | O20: =SUM(L20:N20) -> 0
A21: 3 | B21: Grīdas izlīdzināšana un ierīkošana 50 - 70 mm biezumā | C21: m2 | D21: 15.1 | G21: =ROUND(E21*F21,2) -> 0 | J21: =SUM(G21:I21) -> 0 | K21: =$D21*E21 -> 0 | L21: =$D21*G21 -> 0 | M21: =$D21*H21 -> 0 | N21: =$D21*I21 -> 0 | O21: =SUM(L21:N21) -> 0
A22: 4 | B22: Epoksīda grīdas pārklājuma uzklāšana | C22: m2 | D22: 15.1 | G22: =ROUND(E22*F22,2) -> 0 | J22: =SUM(G22:I22) -> 0 | K22: =$D22*E22 -> 0 | L22: =$D22*G22 -> 0 | M22: =$D22*H22 -> 0 | N22: =$D22*I22 -> 0 | O22: =SUM(L22:N22) -> 0
B23: Sienas
A24: 5 | B24: Sienu virsmu atīrīšana/atkalšana no krāsas un nenoturīgiejiem apmetuma slāņiem | C24: m2 | D24: 58 | G24: =ROUND(E24*F24,2) -> 0 | J24: =SUM(G24:I24) -> 0 | K24: =$D24*E24 -> 0 | L24: =$D24*G24 -> 0 | M24: =$D24*H24 -> 0 | N24: =$D24*I24 -> 0 | O24: =SUM(L24:N24) -> 0
A25: 6 | B25: Lokālu caurumu / dziļo vietu apmešana (30% no kopējās virsmas) | C25: m2 | D25: 20 | G25: =ROUND(E25*F25,2) -> 0 | J25: =SUM(G25:I25) -> 0 | K25: =$D25*E25 -> 0 | L25: =$D25*G25 -> 0 | M25: =$D25*H25 -> 0 | N25: =$D25*I25 -> 0 | O25: =SUM(L25:N25) -> 0
A26: 7 | B26: Sienu gruntēšana pirms krāsošanas | C26: m2 | D26: 58 | G26: =ROUND(E26*F26,2) -> 0 | J26: =SUM(G26:I26) -> 0 | K26: =$D26*E26 -> 0 | L26: =$D26*G26 -> 0 | M26: =$D26*H26 -> 0 | N26: =$D26*I26 -> 0 | O26: =SUM(L26:N26) -> 0
A27: 8 | B27: Sienu krāsošana ar ūdens dispersijas krasām 2 kārtās | C27: m2 | D27: 58 | G27: =ROUND(E27*F27,2) -> 0 | J27: =SUM(G27:I27) -> 0 | K27: =$D27*E27 -> 0 | L27: =$D27*G27 -> 0 | M27: =$D27*H27 -> 0 | N27: =$D27*I27 -> 0 | O27: =SUM(L27:N27) -> 0
B28: Durvis, logi, palodzes
A29: 9 | B29: Jaunas verama divpakešu loga montāža (1,5 x 1,5) un apdare | C29: m2 | D29: 2.5 | G29: =ROUND(E29*F29,2) -> 0 | J29: =SUM(G29:I29) -> 0 | K29: =$D29*E29 -> 0 | L29: =$D29*G29 -> 0 | M29: =$D29*H29 -> 0 | N29: =$D29*I29 -> 0 | O29: =SUM(L29:N29) -> 0
A30: 10 | B30: Durvju ailu apdare | C30: m2 | D30: 2 | G30: =ROUND(E30*F30,2) -> 0 | J30: =SUM(G30:I30) -> 0 | K30: =$D30*E30 -> 0 | L30: =$D30*G30 -> 0 | M30: =$D30*H30 -> 0 | N30: =$D30*I30 -> 0 | O30: =SUM(L30:N30) -> 0
B31: Griesti
A32: 11 | B32: Griestu virsmu atīrīšana/atkalšana no krāsas un nenoturīgiejiem apmetuma slāņiem | C32: m2 | D32: 25 | G32: =ROUND(E32*F32,2) -> 0 | J32: =SUM(G32:I32) -> 0 | K32: =$D32*E32 -> 0 | L32: =$D32*G32 -> 0 | M32: =$D32*H32 -> 0 | N32: =$D32*I32 -> 0 | O32: =SUM(L32:N32) -> 0
A33: 12 | B33: Griestu gruntēšana pirms krāsošanas | C33: m2 | D33: 25 | G33: =ROUND(E33*F33,2) -> 0 | J33: =SUM(G33:I33) -> 0 | K33: =$D33*E33 -> 0 | L33: =$D33*G33 -> 0 | M33: =$D33*H33 -> 0 | N33: =$D33*I33 -> 0 | O33: =SUM(L33:N33) -> 0
A34: 13 | B34: Griestu krāsošana ar ūdens dispersijas krasām 2 kārtās | C34: m2 | D34: 25 | G34: =ROUND(E34*F34,2) -> 0 | J34: =SUM(G34:I34) -> 0 | K34: =$D34*E34 -> 0 | L34: =$D34*G34 -> 0 | M34: =$D34*H34 -> 0 | N34: =$D34*I34 -> 0 | O34: =SUM(L34:N34) -> 0
B35: Elektroinstalācija un apgaisme
A36: 14 | B36: Virspametuma elektroinstalācijas kabeļu montāža, pievadi uz gaismekļiem, slēdžiem, rozetēm | C36: kompl. | D36: 1 | G36: =ROUND(E36*F36,2) -> 0 | J36: =SUM(G36:I36) -> 0 | K36: =$D36*E36 -> 0 | L36: =$D36*G36 -> 0 | M36: =$D36*H36 -> 0 | N36: =$D36*I36 -> 0 | O36: =SUM(L36:N36) -> 0
A37: 15 | B37: Virspametuma kontaktligzdas 230 V | C37: gab. | D37: 6 | G37: =ROUND(E37*F37,2) -> 0 | J37: =SUM(G37:I37) -> 0 | K37: =$D37*E37 -> 0 | L37: =$D37*G37 -> 0 | M37: =$D37*H37 -> 0 | N37: =$D37*I37 -> 0 | O37: =SUM(L37:N37) -> 0
A38: 16 | B38: Virspametuma LED gaismekļu montāža (katrs gaismeklis vismaz 3000 lm, 4000K) | C38: gb. | D38: 3 | G38: =ROUND(E38*F38,2) -> 0 | J38: =SUM(G38:I38) -> 0 | K38: =$D38*E38 -> 0 | L38: =$D38*G38 -> 0 | M38: =$D38*H38 -> 0 | N38: =$D38*I38 -> 0 | O38: =SUM(L38:N38) -> 0
B39: Apkure un cauruļvadi
A40: 17 | B40: Apkures cauruļvadu noslīpēšana un krāsošana | C40: m | D40: 6 | G40: =ROUND(E40*F40,2) -> 0 | J40: =SUM(G40:I40) -> 0 | K40: =$D40*E40 -> 0 | L40: =$D40*G40 -> 0 | M40: =$D40*H40 -> 0 | N40: =$D40*I40 -> 0 | O40: =SUM(L40:N40) -> 0
B41: Citi darbi
A42: 18 | B42: Izpilddokumentācijas sagatavošana | C42: kmpl. | D42: 1 | G42: =ROUND(E42*F42,2) -> 0 | J42: =SUM(G42:I42) -> 0 | K42: =$D42*E42 -> 0 | L42: =$D42*G42 -> 0 | M42: =$D42*H42 -> 0 | N42: =$D42*I42 -> 0 | O42: =SUM(L42:N42) -> 0
...

Sheet telpa_Nr.7_Nr.8
A1: Lokālā tāme Nr. 1-2
A2: Vispārcetnieciskie darbi
A3: (Būvdarbu veids vai konstruktīvā elementa nosaukums)
A4: Objekta nosaukums: | C4: =Koptāme!C11 -> Remonta darbi ūdens filtrācijas ēkā Bauskas ielā 209, Rīgā
A6: Būves nosaukums: | C6: ='Kopsavilkums Nr.1'!D5 -> Remonta darbi Bauskas 209, Rīga k-2 kabinetos
A8: Objekta adrese: | C8: =Koptāme!C13 -> Bauskas iela 209, Rīga
A9: Pasūtījuma Nr.: | C9: 0
A10: Tāme sastādīta 2026. gada tirgus cenās, pamatojoties TS | K10: Tāmes izmaksas: | M10: =O50 -> 0 | N10: EUR
A11: N. p.k. | B11: Darbu nosaukums | C11: Mērvienība | D11: Daudzums | E11: Vienības izmaksas | K11: Kopā uz visu apjomu
E12: Laika norma (c/h) | F12: Darba samaksas likme * (euro/h) | G12: Darba alga | H12: Būvizstrā-dājumi | I12: Mehānismi | J12: Kopā | K12: Darbietilpība (c/h) | L12: Darba alga | M12: Būvizstrādājumi | N12: Mehānismi | O12: Summa
A13: 1 | B13: 2 | C13: 3 | D13: 4 | E13: 5 | F13: 6 | G13: 7 | H13: 8 | I13: 9 | J13: 10 | K13: 11 | L13: 12 | M13: 13 | N13: 14 | O13: 15
B14: =A2 -> Vispārcetnieciskie darbi
B15: Telpas Nr.7 un Nr.8
B16: Demontāžas darbi
A17: 1 | B17: Esošā aprīkojuma demontāža (ventilācijas gaisa vads, apgaismojuma elementi u.t.t.) | C17: objekts | D17: 1 | G17: =ROUND(E17*F17,2) -> 0 | J17: =SUM(G17:I17) -> 0 | K17: =$D17*E17 -> 0 | L17: =$D17*G17 -> 0 | M17: =$D17*H17 -> 0 | N17: =$D17*I17 -> 0 | O17: =SUM(L17:N17) -> 0
B18: Montāžas un apdares darbi darbi
B19: Grīda
A20: 2 | B20: Seguma demontāža un sagatavošana | C20: m2 | D20: 24.3 | G20: =ROUND(E20*F20,2) -> 0 | J20: =SUM(G20:I20) -> 0 | K20: =$D20*E20 -> 0 | L20: =$D20*G20 -> 0 | M20: =$D20*H20 -> 0 | N20: =$D20*I20 -> 0 | O20: =SUM(L20:N20) -> 0
A21: 3 | B21: Grīdas izlīdzināšana un ierīkošana 50 - 70 mm biezumā | C21: m2 | D21: 24.3 | G21: =ROUND(E21*F21,2) -> 0 | J21: =SUM(G21:I21) -> 0 | K21: =$D21*E21 -> 0 | L21: =$D21*G21 -> 0 | M21: =$D21*H21 -> 0 | N21: =$D21*I21 -> 0 | O21: =SUM(L21:N21) -> 0
A22: 4 | B22: Dabīgā linoleja seguma ieklāšana. Pa sienu perimetru veidot atlokus vismaz 100 mm augstumā, šuvju metināšana. | C22: m2 | D22: 24.3 | G22: =ROUND(E22*F22,2) -> 0 | J22: =SUM(G22:I22) -> 0 | K22: =$D22*E22 -> 0 | L22: =$D22*G22 -> 0 | M22: =$D22*H22 -> 0 | N22: =$D22*I22 -> 0 | O22: =SUM(L22:N22) -> 0
B23: Sienas
A24: 5 | B24: Sienu virsmu atīrīšana/atkalšana no krāses un nenoturīgiejiem apmetuma slāņiem, līdz stingrai pamatnei. | C24: m2 | D24: 84 | G24: =ROUND(E24*F24,2) -> 0 | J24: =SUM(G24:I24) -> 0 | K24: =$D24*E24 -> 0 | L24: =$D24*G24 -> 0 | M24: =$D24*H24 -> 0 | N24: =$D24*I24 -> 0 | O24: =SUM(L24:N24) -> 0
A25: 6 | B25: Rievu frēzēšana (2-7 cm platumā) sienās inženierkomunikācijām (elektroapgāde un vājstrāvas) | C25: m | D25: 20 | G25: =ROUND(E25*F25,2) -> 0 | J25: =SUM(G25:I25) -> 0 | K25: =$D25*E25 -> 0 | L25: =$D25*G25 -> 0 | M25: =$D25*H25 -> 0 | N25: =$D25*I25 -> 0 | O25: =SUM(L25:N25) -> 0
A26: 7 | B26: Lokālu caurumu / dziļo vietu apmešana (15% no kopējās virsmas) | C26: m2 | D26: 12.6 | G26: =ROUND(E26*F26,2) -> 0 | J26: =SUM(G26:I26) -> 0 | K26: =$D26*E26 -> 0 | L26: =$D26*G26 -> 0 | M26: =$D26*H26 -> 0 | N26: =$D26*I26 -> 0 | O26: =SUM(L26:N26) -> 0
A27: 8 | B27: Sienu gruntēšana pirms ģipša apmetuma kārtās | C27: m2 | D27: 84 | G27: =ROUND(E27*F27,2) -> 0 | J27: =SUM(G27:I27) -> 0 | K27: =$D27*E27 -> 0 | L27: =$D27*G27 -> 0 | M27: =$D27*H27 -> 0 | N27: =$D27*I27 -> 0 | O27: =SUM(L27:N27) -> 0
A28: 9 | B28: Ģipša apmetuma vienas kārtas uzklāšana, slīpēšana un līdzinašana | C28: m2 | D28: 84 | G28: =ROUND(E28*F28,2) -> 0 | J28: =SUM(G28:I28) -> 0 | K28: =$D28*E28 -> 0 | L28: =$D28*G28 -> 0 | M28: =$D28*H28 -> 0 | N28: =$D28*I28 -> 0 | O28: =SUM(L28:N28) -> 0
A29: 10 | B29: Sienu gruntēšana pirms nobeiguma špaktelmasas nobeiguma kārtas | C29: m2 | D29: 84 | G29: =ROUND(E29*F29,2) -> 0 | J29: =SUM(G29:I29) -> 0 | K29: =$D29*E29 -> 0 | L29: =$D29*G29 -> 0 | M29: =$D29*H29 -> 0 | N29: =$D29*I29 -> 0 | O29: =SUM(L29:N29) -> 0
A30: 11 | B30: Sienu virsmas špaktelēšana ar nobeiguma kārtu, līdzināšana, slīpēšana | C30: m2 | D30: 84 | G30: =ROUND(E30*F30,2) -> 0 | J30: =SUM(G30:I30) -> 0 | K30: =$D30*E30 -> 0 | L30: =$D30*G30 -> 0 | M30: =$D30*H30 -> 0 | N30: =$D30*I30 -> 0 | O30: =SUM(L30:N30) -> 0
A31: 12 | B31: Sienu gruntēšana pirms krāsošanas | C31: m2 | D31: 84 | G31: =ROUND(E31*F31,2) -> 0 | J31: =SUM(G31:I31) -> 0 | K31: =$D31*E31 -> 0 | L31: =$D31*G31 -> 0 | M31: =$D31*H31 -> 0 | N31: =$D31*I31 -> 0 | O31: =SUM(L31:N31) -> 0
A32: 13 | B32: Sienu krāsošana ar ūdens dispersijas krasām 2 kārtās | C32: m2 | D32: 84 | G32: =ROUND(E32*F32,2) -> 0 | J32: =SUM(G32:I32) -> 0 | K32: =$D32*E32 -> 0 | L32: =$D32*G32 -> 0 | M32: =$D32*H32 -> 0 | N32: =$D32*I32 -> 0 | O32: =SUM(L32:N32) -> 0
B33: Durvis, logi, palodzes
A34: 14 | B34: Logu ailu apdare un siltināšana pa perimetru | C34: m2 | D34: 14.5 | G34: =ROUND(E34*F34,2) -> 0 | J34: =SUM(G34:I34) -> 0 | K34: =$D34*E34 -> 0 | L34: =$D34*G34 -> 0 | M34: =$D34*H34 -> 0 | N34: =$D34*I34 -> 0 | O34: =SUM(L34:N34) -> 0
A35: 15 | B35: Durvju ailu apdare | C35: m2 | D35: 4.5 | G35: =ROUND(E35*F35,2) -> 0 | J35: =SUM(G35:I35) -> 0 | K35: =$D35*E35 -> 0 | L35: =$D35*G35 -> 0 | M35: =$D35*H35 -> 0 | N35: =$D35*I35 -> 0 | O35: =SUM(L35:N35) -> 0
B36: Griesti
A37: 16 | B37: Esošo griestu attīrīšana no netīrumiem | C37: m2 | D37: 24.3 | G37: =ROUND(E37*F37,2) -> 0 | J37: =SUM(G37:I37) -> 0 | K37: =$D37*E37 -> 0 | L37: =$D37*G37 -> 0 | M37: =$D37*H37 -> 0 | N37: =$D37*I37 -> 0 | O37: =SUM(L37:N37) -> 0
A38: 17 | B38: Iekārto griestu sistēma Ecophone advantage E, stiprināšanas sistēma-T15 | C38: m2 | D38: 24.3 | G38: =ROUND(E38*F38,2) -> 0 | J38: =SUM(G38:I38) -> 0 | K38: =$D38*E38 -> 0 | L38: =$D38*G38 -> 0 | M38: =$D38*H38 -> 0 | N38: =$D38*I38 -> 0 | O38: =SUM(L38:N38) -> 0
A39: 18 | B39: Piekārto griestu plāksnes Advantage surface white 500, izm. 600x600x15,skaņas absorbācija En ISO 11654 , A klase | C39: m2 | D39: 24.3 | G39: =ROUND(E39*F39,2) -> 0 | J39: =SUM(G39:I39) -> 0 | K39: =$D39*E39 -> 0 | L39: =$D39*G39 -> 0 | M39: =$D39*H39 -> 0 | N39: =$D39*I39 -> 0 | O39: =SUM(L39:N39) -> 0
B40: Elektroinstalācija un apgaisme
A41: 19 | B41: Jaunas elektrības sadales (apvienojot telpas elektroapgādi telpām Nr. 7 un Nr.8) montāža, skapī atstājot 20% neaizpildītu vietu. Sadales aprīkojums (automātslēdži un noplūdes aizsardziba) | C41: kompl. | D41: 1 | G41: =ROUND(E41*F41,2) -> 0 | J41: =SUM(G41:I41) -> 0 | K41: =$D41*E41 -> 0 | L41: =$D41*G41 -> 0 | M41: =$D41*H41 -> 0 | N41: =$D41*I41 -> 0 | O41: =SUM(L41:N41) -> 0
A42: 20 | B42: Zemapmetuma elektroinstalācijas kabeļu montāža, galvenais pievads uz sadalni, gaismekļiem, slēdžiem, rozetēm | C42: kompl. | D42: 1 | G42: =ROUND(E42*F42,2) -> 0 | J42: =SUM(G42:I42) -> 0 | K42: =$D42*E42 -> 0 | L42: =$D42*G42 -> 0 | M42: =$D42*H42 -> 0 | N42: =$D42*I42 -> 0 | O42: =SUM(L42:N42) -> 0
...
